BEGIN:VCALENDAR
VERSION:2.0
PRODID:-//Erhvervsklubben Kolding - ECPv6.15.20//NONSGML v1.0//EN
CALSCALE:GREGORIAN
METHOD:PUBLISH
X-ORIGINAL-URL:https://www.ek-kolding.dk
X-WR-CALDESC:Begivenheder for Erhvervsklubben Kolding
REFRESH-INTERVAL;VALUE=DURATION:PT1H
X-Robots-Tag:noindex
X-PUBLISHED-TTL:PT1H
BEGIN:VTIMEZONE
TZID:Europe/Copenhagen
BEGIN:DAYLIGHT
TZOFFSETFROM:+0100
TZOFFSETTO:+0200
TZNAME:CEST
DTSTART:20230326T010000
END:DAYLIGHT
BEGIN:STANDARD
TZOFFSETFROM:+0200
TZOFFSETTO:+0100
TZNAME:CET
DTSTART:20231029T010000
END:STANDARD
BEGIN:DAYLIGHT
TZOFFSETFROM:+0100
TZOFFSETTO:+0200
TZNAME:CEST
DTSTART:20240331T010000
END:DAYLIGHT
BEGIN:STANDARD
TZOFFSETFROM:+0200
TZOFFSETTO:+0100
TZNAME:CET
DTSTART:20241027T010000
END:STANDARD
BEGIN:DAYLIGHT
TZOFFSETFROM:+0100
TZOFFSETTO:+0200
TZNAME:CEST
DTSTART:20250330T010000
END:DAYLIGHT
BEGIN:STANDARD
TZOFFSETFROM:+0200
TZOFFSETTO:+0100
TZNAME:CET
DTSTART:20251026T010000
END:STANDARD
BEGIN:DAYLIGHT
TZOFFSETFROM:+0100
TZOFFSETTO:+0200
TZNAME:CEST
DTSTART:20260329T010000
END:DAYLIGHT
BEGIN:STANDARD
TZOFFSETFROM:+0200
TZOFFSETTO:+0100
TZNAME:CET
DTSTART:20261025T010000
END:STANDARD
BEGIN:DAYLIGHT
TZOFFSETFROM:+0100
TZOFFSETTO:+0200
TZNAME:CEST
DTSTART:20270328T010000
END:DAYLIGHT
BEGIN:STANDARD
TZOFFSETFROM:+0200
TZOFFSETTO:+0100
TZNAME:CET
DTSTART:20271031T010000
END:STANDARD
END:VTIMEZONE
BEGIN:VEVENT
DTSTART;TZID=Europe/Copenhagen:20260324T170000
DTEND;TZID=Europe/Copenhagen:20260324T170000
DTSTAMP:20260420T104301
CREATED:20260120T174356Z
LAST-MODIFIED:20260120T174356Z
UID:1644-1774371600-1774371600@www.ek-kolding.dk
SUMMARY:Generalforsamling
DESCRIPTION:Generalforsamlingen den 24. marts 2026 kl. 17:00 på Den Gyldne Hane\, Christian IV vej 23\, 6000 Kolding. \nDagsorden udsendes. \n  \n 
URL:https://www.ek-kolding.dk/arrangementer/generalforsamling-3/
END:VEVENT
BEGIN:VEVENT
DTSTART;TZID=Europe/Copenhagen:20260128T190000
DTEND;TZID=Europe/Copenhagen:20260128T190000
DTSTAMP:20260420T104301
CREATED:20251219T085002Z
LAST-MODIFIED:20251219T085002Z
UID:1637-1769626800-1769626800@www.ek-kolding.dk
SUMMARY:Aften på historisk café
DESCRIPTION:Med Den Store Bagelyst vinder 2025\, Ingrid \nDanmarks ældste kornmølle Drabæk Mølle i hjertet af Lunderskov\, er nænsomt\nrenoveret og bygget om l en fantastisk café med tilhørende selskabslokaler. \nDu er som medlem af Erhvervsklubben Kolding inviteret l en a en\, hvor du vil\nopleve et fantas sk kagebord med kaffe/the/kakao og et glas bobler. \nSom prikken over i´et vil vinderen af Den store Bagedyst 2025\, Ingrid fra Lunderskov\nfortælle om oplevelsen med at være deltager i det kendte TV program og ikke mindst\nat vinde det.\nNogle af a enens kager er også lavet af hende\, hun jobber hos Café Drabæks Mølle\nved siden af sit studie på Munkensdams Gymnasium. \nDet sker 28. januar 2026 kl. 19.00 på Café Drabæks Mølle\, Møllegade 30\, Lunderskov\nNormalprisen er kr. 295\,00 og du kommer med som medlem for kr. 150\,00 pr.\nperson.\nDer kan timeldes op l 4 personer per medlem. Vi har i alt plads l 80 personer. \nTilmelding på ekk@ek-kolding.dk. Pengene skal overføres l reg. 9277 konto nr\n4584666779 \nTilmeldingsfristen er 15. januar 2026 kl. 12.00.\nHere er vil overskydende pladser gå l de\, som er på venteliste eller har reserveret\nekstra pladser. \nGlædelig jul og godt nytår\nErhvervsklubben Kolding
URL:https://www.ek-kolding.dk/arrangementer/aften-paa-historisk-cafe/
END:VEVENT
BEGIN:VEVENT
DTSTART;TZID=Europe/Copenhagen:20251129T130000
DTEND;TZID=Europe/Copenhagen:20251129T150000
DTSTAMP:20260420T104301
CREATED:20250903T145012Z
LAST-MODIFIED:20250903T145012Z
UID:1633-1764421200-1764428400@www.ek-kolding.dk
SUMMARY:Julearrangement for medlemmer
DESCRIPTION:Jul på Landbrugsmuseet\, Brødsgårdsvej 52\, Kolding \n  \nGløg og æbleskiver samt juleposer til børnene\, der er et juletræ pr. medlem. \n  \nInvitation med pris og tilmelding udsendes.
URL:https://www.ek-kolding.dk/arrangementer/julearrangement-for-medlemmer/
END:VEVENT
BEGIN:VEVENT
DTSTART;TZID=Europe/Copenhagen:20251128T160000
DTEND;TZID=Europe/Copenhagen:20251128T183000
DTSTAMP:20260420T104301
CREATED:20250903T144622Z
LAST-MODIFIED:20250903T145056Z
UID:1631-1764345600-1764354600@www.ek-kolding.dk
SUMMARY:Julemandens ankomst og uddeling af juleposer ved Rådhuset
DESCRIPTION:
URL:https://www.ek-kolding.dk/arrangementer/julemandens-ankomst-uddeling-af-juleposer-ved-raadhuset/
END:VEVENT
BEGIN:VEVENT
DTSTART;TZID=Europe/Copenhagen:20251002T193000
DTEND;TZID=Europe/Copenhagen:20251002T193000
DTSTAMP:20260420T104301
CREATED:20250406T063835Z
LAST-MODIFIED:20250406T063835Z
UID:1627-1759433400-1759433400@www.ek-kolding.dk
SUMMARY:Cabaret
DESCRIPTION:Welcome to the  Kit Kat Club \nDen snuskede natklub i Berlin bliver i CABARET metafor for den dekadente verden i Tyskland i årene inden Hitler\, en verden i opløsning. \nI Kit Kat Club\, hvor den tvekønnede ceremonimester byder alle “Wilkommen\, bienvenue\, welcome” er hovednummeret den livsnydende unge engelske sangerinde og danser Sally Bowles. \n  \nForestillingen anbefales fra 16 år og opefter. \n  \nBiletterne kan købes på mail: ekk@ek-kolding.dk
URL:https://www.ek-kolding.dk/arrangementer/cabaret-2/
LOCATION:Dronning Dorothea Teatret\, Zahnsgade 53\, 6000 Kolding
END:VEVENT
BEGIN:VEVENT
DTSTART;TZID=Europe/Copenhagen:20250923T193000
DTEND;TZID=Europe/Copenhagen:20250923T193000
DTSTAMP:20260420T104301
CREATED:20250406T062722Z
LAST-MODIFIED:20250406T063518Z
UID:1625-1758655800-1758655800@www.ek-kolding.dk
SUMMARY:Cabaret
DESCRIPTION:Welcome to the  Kit Kat Club \nDen snuskede natklub i Berlin bliver i CABARET metafor for den dekadente verden i Tyskland i årene inden Hitler\, en verden i opløsning. \nI Kit Kat Club\, hvor den tvekønnede ceremonimester byder alle “Wilkommen\, bienvenue\, welcome” er hovednummeret den livsnydende unge engelske sangerinde og danser Sally Bowles. \nForestillingen anbefales fra 16 år og opefter. \nBiletterne kan købes på mail: ekk@ek-kolding.dk
URL:https://www.ek-kolding.dk/arrangementer/cabaret/
LOCATION:Dronning Dorothea Teatret\, Zahnsgade 53\, 6000 Kolding
END:VEVENT
BEGIN:VEVENT
DTSTART;TZID=Europe/Copenhagen:20250312T170000
DTEND;TZID=Europe/Copenhagen:20250312T170000
DTSTAMP:20260420T104301
CREATED:20250219T130832Z
LAST-MODIFIED:20250219T130832Z
UID:1612-1741798800-1741798800@www.ek-kolding.dk
SUMMARY:Generalforsamling
DESCRIPTION:12. marts kl. 17:00 \nSct. Jørgens Gård \nHospitalsgade 4 \n  \nIndkaldelse med dagsorden udsendes.
URL:https://www.ek-kolding.dk/arrangementer/generalforsamling-2/
END:VEVENT
BEGIN:VEVENT
DTSTART;TZID=Europe/Copenhagen:20240912T193000
DTEND;TZID=Europe/Copenhagen:20240912T193000
DTSTAMP:20260420T104301
CREATED:20240217T095739Z
LAST-MODIFIED:20240306T144036Z
UID:1578-1726169400-1726169400@www.ek-kolding.dk
SUMMARY:Teaterforestilling: Midt om Natten
DESCRIPTION:Erhvervsklubben Kolding\, Handel og Håndværk byder medlemmerne til teaterforstillingen Midt om Natten på Dronning Dorothea Teateret \n  \nHovedrollen Benny\, der sammen med sin bedste ven Arnold spiller to barndomsvenner\, som er blevet hjemløse\, da kapitalisterne for at opføre nye lejligheder har revet deres tidligere hjem ned. \nSammen med andre hjemløse opretter de i Sydhavnen et såkaldt samfund kaldet “Haveje”. vi følger livet i fristaden og de problemer\, der opstår både internt og i forhold til det omgivende samfund. \nGennem historien bliver Benny forelsket i Susan\, og da Arnold senere også forelsker sig i hende\, og samtidig stiller op som politiker\, tilspidses situationen\, og de to venners forhold til hinanden sættes på prøve. \n  \nBilletter kan købes på mail: ekk@ek-kolding.dk \n 
URL:https://www.ek-kolding.dk/arrangementer/teaterforestilling-midt-om-natten/
LOCATION:Dronning Dorothea Teatret\, Zahnsgade 53\, 6000 Kolding
END:VEVENT
BEGIN:VEVENT
DTSTART;TZID=Europe/Copenhagen:20240815T193000
DTEND;TZID=Europe/Copenhagen:20240815T193000
DTSTAMP:20260420T104301
CREATED:20240217T095812Z
LAST-MODIFIED:20240306T144100Z
UID:1580-1723750200-1723750200@www.ek-kolding.dk
SUMMARY:Teaterforestilling: Midt om Natten
DESCRIPTION:Erhvervsklubben Kolding\, Handel og Håndværk byder medlemmerne til teaterforstillingen Midt om Natten på Dronning Dorothea Teateret \n  \nHovedrollen Benny\, der sammen med sin bedste ven Arnold spiller to barndomsvenner\, som er blevet hjemløse\, da kapitalisterne for at opføre nye lejligheder har revet deres tidligere hjem ned. \nSammen med andre hjemløse opretter de i Sydhavnen et såkaldt samfund kaldet “Haveje”. vi følger livet i fristaden og de problemer\, der opstår både internt og i forhold til det omgivende samfund. \nGennem historien bliver Benny forelsket i Susan\, og da Arnold senere også forelsker sig i hende\, og samtidig stiller op som politiker\, tilspidses situationen\, og de to venners forhold til hinanden sættes på prøve. \n  \nBilletter kan købes på mail: ekk@ek-kolding.dk \n 
URL:https://www.ek-kolding.dk/arrangementer/teaterforestilling-midt-om-natten-2/
LOCATION:Dronning Dorothea Teatret\, Zahnsgade 53\, 6000 Kolding
END:VEVENT
BEGIN:VEVENT
DTSTART;TZID=Europe/Copenhagen:20240404T193000
DTEND;TZID=Europe/Copenhagen:20240404T193000
DTSTAMP:20260420T104301
CREATED:20240217T095826Z
LAST-MODIFIED:20240306T144120Z
UID:1576-1712259000-1712259000@www.ek-kolding.dk
SUMMARY:Teaterforestilling: TV2 Teaterkoncert
DESCRIPTION:Erhvervsklubben Kolding\, Handel og Håndværk byder medlemmerne til TV2 Teaterkoncert på Dronning Dorothea Teateret \n  \nOplev en teaterkoncert i verdensklasse\, når Dronning Dorothea teateret i samarbejde med Marco Goth Thorsen fortolker TV-2s udødelige musik med titlen:\n“Eventyr For Begyndere” \nTeatret har før med stor succes opsat de anmelderroste teaterkoncerter om John Mogensen: “Sidder på et værtshus” & Bamses Venner: “Venner kom & se” \nOm TV2 teaterkoncerten: “Eventyr for begyndere” siger instruktør & konceptudvikler Marco: \n“Dette er min 3. Teaterkoncert med et af Danmarks mest folkekære bands.\nLigesom med de 2 forrige kan folk forvente en festlig “syng-med” forestilling de sent vil glemme. \nDu kan glæde dig til bla. at opleve “De første kærester på månen”\, “Bag duggede ruder”\, “Kys det nu” & “Be bab” \n  \nBilletter kan købes på mail: ekk@ek-kolding.dk \n 
URL:https://www.ek-kolding.dk/arrangementer/teaterforestilling-tv2-teaterkoncert/
LOCATION:Dronning Dorothea Teatret\, Zahnsgade 53\, 6000 Kolding
END:VEVENT
BEGIN:VEVENT
DTSTART;TZID=Europe/Copenhagen:20240313T170000
DTEND;TZID=Europe/Copenhagen:20240313T170000
DTSTAMP:20260420T104301
CREATED:20240217T093443Z
LAST-MODIFIED:20240217T095956Z
UID:1582-1710349200-1710349200@www.ek-kolding.dk
SUMMARY:Generalforsamling
DESCRIPTION:Der afholdes generalforsaming for Erhvervsklubben Kolding\, Handel og Håndværk \nOnsdag den 13. marts kl. 17 på Restaurant Skamlingsbanken. \nIndkaldelse med dagsorden udsendes.
URL:https://www.ek-kolding.dk/arrangementer/generalforsamling/
LOCATION:Restaurant Skamlingsbanken\, Skamlingsvejen 123\, 6093 Sjølund
END:VEVENT
END:VCALENDAR